BEGIN:VCALENDAR
VERSION:2.0
PRODID:gruene-elbe-elster.de
METHOD:PUBLISH
BEGIN:VTIMEZONE
TZID:Europe/Berlin
X-LIC-LOCATION:Europe/Berlin
BEGIN:DAYLIGHT
TZOFFSETFROM:+0100
TZOFFSETTO:+0200
TZNAME:CEST
DTSTART:19700329T020000
RRULE:FREQ=YEARLY;INTERVAL=1;BYDAY=-1SU;BYMONTH=3
END:DAYLIGHT
BEGIN:STANDARD
TZOFFSETFROM:+0200
TZOFFSETTO:+0100
TZNAME:CET
DTSTART:19701025T030000
RRULE:FREQ=YEARLY;INTERVAL=1;BYDAY=-1SU;BYMONTH=10
END:STANDARD
END:VTIMEZONE
BEGIN:VEVENT
UID:e7b8aaed9cfcd7a1653ef76f0dd6104f@gruene-elbe-elster.de
URL;VALUE=URI:https://gruene-elbe-elster.de/termine/1-mai/
LOCATION:
SUMMARY:1. Mai
DESCRIPTION;ALTREP="data:text/html,%0A%3Cp%3EGemeinsames%20Fest%3C%2Fp%3E
 %0A":Gemeinsames Fest
CLASS:PUBLIC
DTSTART;TZID=Europe/Berlin:20260501T090000
DTEND;TZID=Europe/Berlin:20260501T100000
DTSTAMP:20260422T144304
END:VEVENT
END:VCALENDAR